BEGIN:VCALENDAR
VERSION:2.0
PRODID:-// - ECPv6.15.20//NONSGML v1.0//EN
CALSCALE:GREGORIAN
METHOD:PUBLISH
X-ORIGINAL-URL:https://lgbtqphoenix.org
X-WR-CALDESC:Events for 
REFRESH-INTERVAL;VALUE=DURATION:PT1H
X-Robots-Tag:noindex
X-PUBLISHED-TTL:PT1H
BEGIN:VTIMEZONE
TZID:America/Phoenix
BEGIN:STANDARD
TZOFFSETFROM:-0700
TZOFFSETTO:-0700
TZNAME:MST
DTSTART:20250101T000000
END:STANDARD
END:VTIMEZONE
BEGIN:VEVENT
DTSTART;TZID=America/Phoenix:20260521T120000
DTEND;TZID=America/Phoenix:20260521T130000
DTSTAMP:20260419T071230
CREATED:20260121T212752Z
LAST-MODIFIED:20260121T212942Z
UID:7028-1779364800-1779368400@lgbtqphoenix.org
SUMMARY:Film Discussion: Art and Pep
DESCRIPTION:📣 Noon Film Discussion: Art and Pep 🎬 \nJoin us Wednesday\, May 21 at 12:00 PM for a film discussion of Art and Pep\, a documentary celebrating the creative partnership and enduring friendship between artists Arthur Turner and Pepon Osorio. The film offers a thoughtful look at collaboration\, legacy\, and queer artistic expression. \n🖥️ Watch before we meet:Available to stream via Kanopy with your library card. If you can’t\, that’s ok too\, you can still join us! \n📅 Date & Time: Wednesday\, May 21 at 12:00 PM📍 Register: on Phoenix YOU or in the Phoenix Public Library calendar https://calendar.phoenixpubliclibrary.org/event/16229272 \nWe hope you’ll join us for a meaningful conversation about art\, community\, and LGBTQ+ visibility.
URL:https://lgbtqphoenix.org/event/film-discussion-art-and-pep/
LOCATION:Online
END:VEVENT
BEGIN:VEVENT
DTSTART;TZID=America/Phoenix:20260603T120000
DTEND;TZID=America/Phoenix:20260603T130000
DTSTAMP:20260419T071230
CREATED:20250519T232442Z
LAST-MODIFIED:20250519T232442Z
UID:5774-1780488000-1780491600@lgbtqphoenix.org
SUMMARY:General Membership Meeting
DESCRIPTION:Join us on Teams on June 3\, 2026 at noon! \nIf you have any questions\, need an invite\, or need an accommodation\, please contact the meeting’s organizer\, Secretary Ira McCullough\, at ira.mccullough@phoenix.gov or 602-291-3711.
URL:https://lgbtqphoenix.org/event/general-membership-meeting-11/
LOCATION:Online
ORGANIZER;CN="Hilary Werner":MAILTO:hilary.werner@phoenix.gov
END:VEVENT
END:VCALENDAR