BEGIN:VCALENDAR
VERSION:2.0
PRODID:-// - ECPv6.15.20//NONSGML v1.0//EN
CALSCALE:GREGORIAN
METHOD:PUBLISH
X-ORIGINAL-URL:https://lgbtqphoenix.org
X-WR-CALDESC:Events for 
REFRESH-INTERVAL;VALUE=DURATION:PT1H
X-Robots-Tag:noindex
X-PUBLISHED-TTL:PT1H
BEGIN:VTIMEZONE
TZID:America/Phoenix
BEGIN:STANDARD
TZOFFSETFROM:-0700
TZOFFSETTO:-0700
TZNAME:MST
DTSTART:20250101T000000
END:STANDARD
END:VTIMEZONE
BEGIN:VEVENT
DTSTART;TZID=America/Phoenix:20260319T120000
DTEND;TZID=America/Phoenix:20260319T130000
DTSTAMP:20260419T051514
CREATED:20260121T195812Z
LAST-MODIFIED:20260121T212906Z
UID:7019-1773921600-1773925200@lgbtqphoenix.org
SUMMARY:Film Discussion: Break the Game
DESCRIPTION:📣 Noon Film Discussion: Break the Game 🎮 \nJoin us Wednesday\, March 19 at 12:00 PM for a film discussion of Break the Game\, a compelling documentary that explores gaming culture\, online harassment\, and the fight for inclusion through the experiences of women and LGBTQ+ gamers. \n🖥️ Watch before we meet:The film is available to stream via Kanopy with your library card. If you don’t have time to watch\, that’s ok\, some anyway! \n📅 Date & Time: Wednesday\, March 19 at 12:00 PM📍 Register: Sign up through Phoenix YOU or at the Library’s website: https://calendar.phoenixpubliclibrary.org/event/16228765 \nCome ready to share your thoughts and engage in a thoughtful conversation about representation\, resilience\, and digital spaces. \n \n 
URL:https://lgbtqphoenix.org/event/film-discussion-break-the-game/
LOCATION:Online
END:VEVENT
END:VCALENDAR